BEGIN:VCALENDAR
VERSION:2.0
PRODID:-//MEVKAMP - ECPv6.9.0//NONSGML v1.0//EN
CALSCALE:GREGORIAN
METHOD:PUBLISH
X-ORIGINAL-URL:https://mevkamp.org
X-WR-CALDESC:MEVKAMP için etkinlikler
REFRESH-INTERVAL;VALUE=DURATION:PT1H
X-Robots-Tag:noindex
X-PUBLISHED-TTL:PT1H
BEGIN:VTIMEZONE
TZID:Europe/Moscow
BEGIN:STANDARD
TZOFFSETFROM:+0300
TZOFFSETTO:+0300
TZNAME:MSK
DTSTART:20260101T000000
END:STANDARD
END:VTIMEZONE
BEGIN:VEVENT
DTSTART;TZID=Europe/Moscow:20260412T071000
DTEND;TZID=Europe/Moscow:20260412T200000
DTSTAMP:20260419T190341
CREATED:20260407T190207Z
LAST-MODIFIED:20260407T190209Z
UID:3057-1775977800-1776024000@mevkamp.org
SUMMARY:DEREKAHVE ARAP PINARI GÜME DAĞI DEREKAHVE
DESCRIPTION:MEVSİM DAĞCILIK KAMPÇILIK DOĞA SPORLARI SPOR KULÜBÜ – İZMİRGÜNÜBİRLİK BAHAR MEVSİMİ DOĞA YÜRÜYÜŞÜ🗓️ 12 NİSAN 2026 – PAZAR 🕣 07:10 – 20:00🇹🇷 İZMİR – TİRE⛰️ DEREKAHVE ARAP PINARI GÜME DAĞI DEREKAHVE \n\n\n\n\n\nETKİNLİK PROGRAMI 12.04.2026 – PAZARDEREKAHVE ARAP PINARI GÜME DAĞI DEREKAHVEDeğerli Mevsim Dağcılık Kulübü üyeleri ve katılımcı doğa spor sever arkadaşlarımız\, Bahar mevsiminin göreceli manzaraları yeşeren çimler mis kokulu atmosfer ve Kır çiçekli yol patikalar da iki grup koldan yürüyeceğiz.. Sabah Belevi de verilecek sabah molası ardından A grubumuz toplamda 8 km kolay bir rotada yürüyecek B grubumuzda 13 Km toplamda orta zorlukta yürüyüş yapacaktır. İyi etkinlikler \n\n\n\nİLETİŞİM ☎️ADRES : 1717 SOKAK. NO:82 C .D:305. KARŞIYAKAKULÜP TESCİL NO 35-000895KULÜP TEL & WHATSAPP0 533 150 08 95 \n\n\n\n\n\n\n\n🚍 ATAKENT – KARŞIYAKA – BAYRAKLI – BORNOVA\n\n\n\n🕣 07 : 20 ‘ DEGİRNE MC DONALDS \, CİHAT KORA \, ATAKENT EMNİYET MD. DEMİRKÖPRÜ \, ATAKENT KAVŞAĞI \n\n\n\n🕣 07 : 30 ‘ DABOSTANLI İSKELE \n\n\n\n🕣 07 : 40 ‘ DAKARŞIYAKA İSKELE \, TERSANE \n\n\n\n🕣 07 : 45 ‘ DETURAN \, BAYRAKLI ÜST GEÇİT \, SMYRNA MEYDANI \n\n\n\n🕣 07 : 50 ‘ DEBORNOVA ÖĞRETMENEVİ \, ÇAMKIRAN \, MİGROS \n\n\n\n🕣 08 : 00 ‘ DABORNOVA MEYDAN \n\n\n\nİ R T İ B A T ☎️0 553 202 32 33 / SEDAT BAL0 532 725 38 53 / İBRAHİM BEDİR0 554 949 62 61 / FULYA DUVARCIOĞLU \n\n\n\n\n\n\n\n⚠️ SERVİS SAATLERİ VE KATILIM HAKKINDA\n\n\n\nYAZILI OLAN SERVİS GÜZERGAHLARIMIZDAN KATILACAK ARKADAŞLARIMIZIN BEKLEME YERLERİNDE 5 DAKİKA ÖNCE OLMALARI\, KAYIT YAPTIRACAK KATILIMCI ARKADAŞLARIMIZIN BÖLGE İRTİBAT NUMARASI YAZAN SERVİS SORUMLUSU ARKADAŞLARIMIZI ARAYARAK ÖNCESİNDE KATILIMLARINI TC NO\, YER BİLDİRİM KAYITLARINI TELEFON VEYA MESAJLA İLETMELERİ RİCA OLUNUR. \n\n\n\n\n\n\n\n🚍 BUCA – KÖSTENCE – HATAY – F.ALTAY – KONAK – GAZİEMİR\n\n\n\n🕣 07 : 10 ‘ DABUCA ÜÇKUYULAR MEYDAN \, ÇEVİKBİR MEYDAN \n\n\n\n🕣 07 : 15 ‘ TEBUCA HEYKEL \, BUCA BELEDİYE \, BUCA YAPIKREDİBUCA VERGİ DAİRESİ \, İŞÇİEVLERİ LAMBALAR \n\n\n\n🕣 07 : 20 ‘ DEŞİRİNYER MİGROS \, ŞİRİNYER İZBAN \, KEMAL SUNAL PARKI \n\n\n\n🕣 07 : 25 ‘ TEKÖSTENCE KÖPRÜSÜ \, OSMAN ÖKSÜZ PARKI \n\n\n\n🕣 07 : 30 ‘ DAÜÇYOL METRO \, İZMİRSPOR PARKI \, ŞOFÖRLER LOKALİ \,ASKER HASTANESİ \, NOKTA \, HATAY METRO \n\n\n\n🕣 07 : 35 ‘ TEHAKİMEVLERİ \, SUSUZDEDE \, GÖZTEPE METRO \,AMERİKAN KOLEJİ \, HIFZISIHHA LAMBALAR \, POLİGON METRO \n\n\n\n🕣 07 : 40 ‘ TADENİZMEN \, GÖZTEPE STADYUM \, F. ALTAY METRO \n\n\n\n🕣 07 : 45 ‘ TEGÖZTEPE KÖPRÜSÜ \, VALİ KONAĞI \, KARANTİNA ALTGEÇİT \n\n\n\n🕣 07 : 50 ‘ DEKONAK SABANCI KÜLTÜR SARAYI \, KONAK TÜNEL GİRİŞİ \n\n\n\n🕣 08 : 00 ‘ DAKARABAĞLAR BELEDİYESİ \n\n\n\n🕣 08 : 10 ‘ DAGAZİEMİR OPTİMUM \, ESKİ MİGROS \, CARREFORSA \n\n\n\nİ R T İ B A T ☎️0 505 053 05 97 / YASEMİN DEMİR0 507 364 99 84 / KEMAL MAVİLİ0 531 678 12 07 / HAKTAN ASLAN \n\n\n\n\n\n\n\n⚠️ SERVİS SAATLERİ VE KATILIM HAKKINDA\n\n\n\nYAZILI OLAN SERVİS GÜZERGAHLARIMIZDAN KATILACAK ARKADAŞLARIMIZIN BEKLEME YERLERİNDE 5 DAKİKA ÖNCE OLMALARI\, KAYIT YAPTIRACAK KATILIMCI ARKADAŞLARIMIZIN BÖLGE İRTİBAT NUMARASI YAZAN SERVİS SORUMLUSU ARKADAŞLARIMIZI ARAYARAK ÖNCESİNDE KATILIMLARINI TC NO\, YER BİLDİRİM KAYITLARINI TELEFON VEYA MESAJLA İLETMELERİ RİCA OLUNUR. \n\n\n\n\n\n\n\n⚠️ DOĞADA YAPILAN AKTİVİTELER RİSK İÇERİR.\n\n\n\nYÜKSEK TANSİYON\, KALP RAHATSIZLIKLARI\, ASTIM GİBİ SOLUNUM RAHATSIZLIKLARI İLE ADALE EKLEM ROMATİZMASI\,EPİLEPSİ ( SARA ) VS. DOĞADA TEDAVİSİ SON DERECE GÜÇ OLAN HASTALIKLARA SAHİP KİŞİLER YÜRÜYÜŞLERE KABUL EDİLMEZ. \n\n\n\n\n\n\n\n⚠️ ÜYELİK VE LİSANS HAKKINDA\n\n\n\nYÜRÜYÜŞ ETKİNLİKLERİMİZE MUAFİYET FORMU DOLDURULARAK ADAY ÜYE KATILIMCI KABUL ETMEKTEYİZ. ÜYE BAŞVURUSU İÇİN BİRKAÇ FAALİYETE KATILMANIZ GEREKİR. ÜYELİK İÇİN MUAFİYET VE ÜYE FORMU VERİLİP DOLDURULARAK GEREKLİ EVRAKLAR İSTENİR. BU EVRAKLAR; SAĞLIK BELGESİ\, 5 ADET VESİKALIK FOTOĞRAF ve 2 ADET KİMLİK FOTOKOPİSİ ve YILLIK AİDAT TIR.LİSANS YENİLEME İŞLEMLERİ YILLIK OLARAK KULÜP ADINA DÜZENLENEREK TÜRKİYE DAĞCILIK FEDERASYONUNA ÖDENTİYLE KİMLİK FOTOKOPİSİ\, 2 ADET VESİKALIK FOTOĞRAF İLE İZMİR GENÇLİK SPOR MÜDÜRLÜĞÜNE YAPTIRTILIR. \n\n\n\n\n\n\n\n⚠️ DOĞA YÜRÜYÜŞLERİNDE KURALLAR\n\n\n\nDoğa yürüyüşlerinde yürüyüş liderleri sorumludur.Katılacaklar rehberlerin ve artçının talimatlarına kesinlikle uymak zorundadır.Rehberi geçmemeli ve artçıdan geri kalınmamalıdır. \n\n\n\nKoordinatlar doğrultusunda alınmış rota dışına çıkılmaması molalarda guruptan tek başına yetkili olan arkadaşlara haber vermeden ayrılınmaması\, ateş yakılmaması rica olunur. \n\n\n\nMuafiyetlerde belirtilen sağlık sorunları olanlar yürüyüşlere katılamazlar. Yürüyüş esnasında grupların temposuna uyulmalı\, keyfi durmalar ve yavaşlamalar yapılmamalıdır. \n\n\n\nYürüyüş esnasında ve mola verilecek alanlarda çevrenin atıklarla kirletilmemesine özen ve önem verilmeli yürüyüşte ortaya çıkan bütün atıklar geri getirilerek\, yerleşim birimlerindeki çöplüklere bırakılmalıdır. \n\n\n\nYürüyüşler esnasında sigara ve alkol kullanılmamaktadır. Mola yerlerinde kontrolü geniş alanda sigara içilmesine izin verilebilir. \n\n\n\n\n\n\n\n⚠️ DOĞA YÜRÜYÜŞÇÜLERİ İÇİN GEREKLİ GIDA MALZEMELER\n\n\n\nMatara\, termos vb şişelerde en az 2 litre su bulundurulmalı\, Öğle molalarında yanınızda bir öğün yiyecek ve içecek\, termosta sıcak su getirmeniz hazır çorba ve çay içmek keyif için işinize yarar. Kışın bilhassa soğuklarda içimi size ayrı keyif verecektir. Yanınızda bulunduracağınız enerji veren incir\, üzüm\, kayısı ve meyve kuruları yürüyüşte sizi tok tutar size gün boyu enerji verir. \n\n\n\nTemel ilk yardım malzemesi kremler ve kişilere gerekli özel ilaçlar\, çatal\, kaşık\, bardak\, tabak gibi malzemeleri yanınıza alabilirsiniz. \n\n\n\nYürüyüş batonları yürüyüş sırasında dere geçişlerinde ve eğimli arazilerde denge sağlanması yükün kollara verilmesi açısından kullanılması size fayda verir. Küçük led’li kafa feneri\, düdük\, güneş gözlüğü bulundurulması yanınızda olması gereken malzemeler arasındadır. \n\n\n\n\n\n\n\n⚠️ DOĞA YÜRÜYÜŞLERİNDE KULLANILABİLECEK GİYSİLER\n\n\n\nŞapka\, eldiven \, bere (mevsim koşullarına uygun) Polar türü kıyafetler değişmelik yedek fanila ve çorap. Tozluk\, Yağmurluk\, panço vb. su geçirmez giysiler \n\n\n\nHer yürüyüşçünün mutlaka bir sırt çantası olur. Kişilerin yürüyüş esnasında denge unsuru nedeniyle ve yaralanmalardan korunabilmek amacıyla elleri boş olmalıdır. iki omuz askılı klipsleri olan sırt çantası yürüyüşte size konfor sağlar. \n\n\n\nYürüyüşçünün ayakkabısı yürüyüş sporuna uygun\, uzun bilekli\, rahat\, ayağını vurmayan\, yürüyüşçünün ayağına alışmış ve daha önce denemiş kısacası sorunsuz ayakkabı olmalıdır. Kış şartları için su geçirmez olanları tercih edilmelidir. \n\n\n\nAz yer tutmalı\, hafif ancak sağlıklı işlev gören cinsten hareket yeteneğinizi kısıtlamayan rahat kıyafetler olmalıdır. ( Dar streç ve kot pantolonları kullanmanız doğa yürüyüşleri aktivitelerine uygun değildir ).Üst giysileriniz önden açılıp kapanabilir düğmeli veya fermuarlı olması sizin için kullanışı kolay olacaktır. \n\n\n\nİç çamaşırlar yün veya sentetik olmalıdır. Bu malzemeler teri hemen emerek dışarı iletirler ve çabuk kururlar. Üst giysi vücut ısısını dışarıya verebilen Polar veya GoreTex kumaşlardan yapılmış\, çorabı mevsim koşullarına uygun ayak ile bot arasında tampon görevi görecek nitelikte olmalıdır. Kışın yün çorap kullanılmalıdır..
URL:https://mevkamp.org/event/derekahve-arap-pinari-gume-dagi-derekahve/
END:VEVENT
END:VCALENDAR